BEGIN:VCALENDAR
VERSION:2.0
PRODID:icalendar-ruby
CALSCALE:GREGORIAN
METHOD:PUBLISH
BEGIN:VEVENT
DTSTAMP:20260423T143614Z
UID:130-1159649@brunsnaz.org
DTSTART:20261025T220000Z
DTEND:20261026T000000Z
CLASS:PUBLIC
CREATED:20260423T102650
DESCRIPTION:Student Ministries\n7th - 12th grade\n9:30 AM Bible Study\n6:00
 -8:00 PM Youth Group\n 
LAST-MODIFIED:20260423T102650
LOCATION:Brunswick Naz
SUMMARY:Student Ministries
URL;VALUE=URI:https://www.brunsnaz.org/events/student-ministries/2026-10-25
ATTACH;FILENAME=ascent-ministries.jpg;FMTTYPE=image/jpeg:https://dq5pwpg1q8
 ru0.cloudfront.net/2026/01/07/16/52/12/323f9f4f-dd46-498d-a8a3-d0c0b563443
 9/ascent-ministries.jpg
END:VEVENT
END:VCALENDAR
