BEGIN:VCALENDAR
VERSION:2.0
PRODID:icalendar-ruby
CALSCALE:GREGORIAN
METHOD:PUBLISH
BEGIN:VEVENT
DTSTAMP:20260419T161014Z
UID:128-1142802@brunsnaz.org
DTSTART:20260929T180000Z
DTEND:20260929T190000Z
CLASS:PUBLIC
CREATED:20260419T114034
DESCRIPTION:BELONG - BELIEVE - BLESS\nB  GROUPS (life groups)\nWe have gro
 ups meeting on Wednesday evenings and Thursday evenings.\nCall 330-225-695
 7 to find out day/time/location and get connected today!
LAST-MODIFIED:20260419T114034
LOCATION:
SUMMARY:BELONG - BELIEVE - BLESS
URL;VALUE=URI:https://www.brunsnaz.org/events/belong-believe-bless/2026-09-
 29
ATTACH;FILENAME=B-Group-slide-pic.jpg;FMTTYPE=image/jpeg:https://dq5pwpg1q8
 ru0.cloudfront.net/2025/12/16/18/34/03/21df7486-1456-4adb-9c20-e601541e096
 4/B-Group-slide-pic.jpg
END:VEVENT
END:VCALENDAR
